BEGIN:VCALENDAR
VERSION:2.0
PRODID:-//Joinery//Events//EN
CALSCALE:GREGORIAN
BEGIN:VEVENT
UID:event-97-20260529@joinerytest.site
DTSTAMP:20260420T172720Z
DTSTART:20260529T230000Z
DTEND:20260530T010000Z
SUMMARY:Test Weekly Recurring Class
URL:https://joinerytest.site/event/test-weekly-recurring-class/2026-05-29
STATUS:CONFIRMED
END:VEVENT
END:VCALENDAR