BEGIN:VCALENDAR
VERSION:2.0
PRODID:-//Joinery//Events//EN
CALSCALE:GREGORIAN
BEGIN:VEVENT
UID:event-97-20260511@joinerytest.site
DTSTAMP:20260420T173338Z
DTSTART:20260511T230000Z
DTEND:20260512T010000Z
SUMMARY:Test Weekly Recurring Class
URL:https://joinerytest.site/event/test-weekly-recurring-class/2026-05-11
STATUS:CONFIRMED
END:VEVENT
END:VCALENDAR