BEGIN:VCALENDAR
VERSION:2.0
PRODID:-//Joinery//Events//EN
CALSCALE:GREGORIAN
BEGIN:VEVENT
UID:event-97-20260501@joinerytest.site
DTSTAMP:20260420T172627Z
DTSTART:20260501T230000Z
DTEND:20260502T010000Z
SUMMARY:Test Weekly Recurring Class
URL:https://joinerytest.site/event/test-weekly-recurring-class/2026-05-01
STATUS:CONFIRMED
END:VEVENT
END:VCALENDAR