BEGIN:VCALENDAR
VERSION:2.0
PRODID:-//Joinery//Events//EN
CALSCALE:GREGORIAN
BEGIN:VEVENT
UID:event-97-20260424@joinerytest.site
DTSTAMP:20260420T173401Z
DTSTART:20260424T230000Z
DTEND:20260425T010000Z
SUMMARY:Test Weekly Recurring Class
URL:https://joinerytest.site/event/test-weekly-recurring-class/2026-04-24
STATUS:CONFIRMED
END:VEVENT
END:VCALENDAR