BEGIN:VCALENDAR
VERSION:2.0
PRODID:-//Joinery//Events//EN
CALSCALE:GREGORIAN
BEGIN:VEVENT
UID:event-97-20260420@joinerytest.site
DTSTAMP:20260420T173348Z
DTSTART:20260420T230000Z
DTEND:20260421T010000Z
SUMMARY:Test Weekly Recurring Class
URL:https://joinerytest.site/event/test-weekly-recurring-class/2026-04-20
STATUS:CONFIRMED
END:VEVENT
END:VCALENDAR