BEGIN:VCALENDAR
VERSION:2.0
PRODID:-//Joinery//Events//EN
CALSCALE:GREGORIAN
BEGIN:VEVENT
UID:event-55@joinerytest.site
DTSTAMP:20260420T191932Z
DTSTART:20211105T223000Z
DTEND:20211112T150000Z
SUMMARY:Integral Zen 7 Day Retreat (New Hampshire)
DESCRIPTION:We will explore the poem "Faith in Mind" on this retreat. Writt
 en during the Tang Dynasty in 6 th Century China by Hsin Hsin Ming\, this 
 translation is by the venerable Chan Master Shen-yen.
LOCATION:Aryaloka Buddhist Center\, NH
URL:https://joinerytest.site/event/integral-zen-7-day-retreat5
STATUS:CONFIRMED
END:VEVENT
END:VCALENDAR